BEGIN:VCALENDAR
VERSION:2.0
PRODID:-//Marguerite Kardos - ECPv6.15.20//NONSGML v1.0//EN
CALSCALE:GREGORIAN
METHOD:PUBLISH
X-WR-CALNAME:Marguerite Kardos
X-ORIGINAL-URL:https://margueritekardos.com
X-WR-CALDESC:Évènements pour Marguerite Kardos
REFRESH-INTERVAL;VALUE=DURATION:PT1H
X-Robots-Tag:noindex
X-PUBLISHED-TTL:PT1H
BEGIN:VTIMEZONE
TZID:Europe/Paris
BEGIN:DAYLIGHT
TZOFFSETFROM:+0100
TZOFFSETTO:+0200
TZNAME:CEST
DTSTART:20250330T010000
END:DAYLIGHT
BEGIN:STANDARD
TZOFFSETFROM:+0200
TZOFFSETTO:+0100
TZNAME:CET
DTSTART:20251026T010000
END:STANDARD
BEGIN:DAYLIGHT
TZOFFSETFROM:+0100
TZOFFSETTO:+0200
TZNAME:CEST
DTSTART:20260329T010000
END:DAYLIGHT
BEGIN:STANDARD
TZOFFSETFROM:+0200
TZOFFSETTO:+0100
TZNAME:CET
DTSTART:20261025T010000
END:STANDARD
BEGIN:DAYLIGHT
TZOFFSETFROM:+0100
TZOFFSETTO:+0200
TZNAME:CEST
DTSTART:20270328T010000
END:DAYLIGHT
BEGIN:STANDARD
TZOFFSETFROM:+0200
TZOFFSETTO:+0100
TZNAME:CET
DTSTART:20271031T010000
END:STANDARD
END:VTIMEZONE
BEGIN:VEVENT
DTSTART;TZID=Europe/Paris:20260426T170000
DTEND;TZID=Europe/Paris:20260501T160000
DTSTAMP:20260419T173831
CREATED:20251201T130047Z
LAST-MODIFIED:20251220T130859Z
UID:2500-1777222800-1777651200@margueritekardos.com
SUMMARY:Dialogues avec l'Ange et danses sacrées – Marguerite Kardos & Geneviève Khemtémourian
DESCRIPTION:Marguerite Kardos ACCUEILBIOGRAPHIEÉVÈNEMENTSProchains évènementsÉvènements précédentsACTUALITÉSMÉDIASACCUEILBIOGRAPHIEÉVÈNEMENTSProchains évènementsÉvènements précédentsACTUALITÉSMÉDIAS\n    \n\n\nÉvènementsDialogues avec l’Ange – La Tâche – Marguerite KardosEN SAVOIR PLUSLa Santé du Cerveau commence dans l’Intestin – Marguerite KardosEN SAVOIR PLUSCercle de Dialogues avec l’AngeEN SAVOIR PLUS[ANNULÉ] Le Monde Nouveau crie vers vous afin de naître – Marguerite KardosEN SAVOIR PLUSLe corps est formé pour vous depuis le commencement des temps – Marguerite KardosEN SAVOIR PLUS[REPORTÉ] Dialogues avec l’Ange et danses sacrées – Marguerite Kardos & Geneviève KhemtémourianEN SAVOIR PLUSCercle de Dialogues avec l’AngeEN SAVOIR PLUSCercle de Dialogues avec l’AngeEN SAVOIR PLUS« Amour de Feu » – Marguerite Kardos\, Audrey Fella\, Susanna FerreresEN SAVOIR PLUS\n	1\n	2\n	3\n	…\n	18\n\n\n    \n\nS’abonner à la lettre d’information Vous souhaitez être tenu au courant de l’actualité et des prochains évènements de Marguerite Kardos ? Complétez le formulaire ci-contre pour recevoir sa lettre d’information.   \n    \n\n\n\n\nMarguerite Kardos Copyright Marguerite Kardos 2025 – Tous droits réservés – Mentions légales
URL:https://margueritekardos.com/event/dialogues-ange-danses-sacrees-avril-mai-2026/
LOCATION:Ancienne chartreuse de Pierre Châtel\, 464 chemin du Fort\, Virignin\, Bugey\, 01300\, France
CATEGORIES:À la une,Stages
ATTACH;FMTTYPE=image/jpeg:https://margueritekardos.com/wp-content/uploads/2020/01/dialogues-ange-danse.jpg
ORGANIZER;CN="Universit%C3%A9 A Ciel Ouvert":MAILTO:infos@acielouvert.org
END:VEVENT
END:VCALENDAR